BEGIN:VCALENDAR
VERSION:2.0
PRODID:-//Welsh Corgi League - ECPv6.15.20//NONSGML v1.0//EN
CALSCALE:GREGORIAN
METHOD:PUBLISH
X-ORIGINAL-URL:https://www.welshcorgileague.org
X-WR-CALDESC:Events for Welsh Corgi League
REFRESH-INTERVAL;VALUE=DURATION:PT1H
X-Robots-Tag:noindex
X-PUBLISHED-TTL:PT1H
BEGIN:VTIMEZONE
TZID:Europe/London
BEGIN:DAYLIGHT
TZOFFSETFROM:+0000
TZOFFSETTO:+0100
TZNAME:BST
DTSTART:20240331T010000
END:DAYLIGHT
BEGIN:STANDARD
TZOFFSETFROM:+0100
TZOFFSETTO:+0000
TZNAME:GMT
DTSTART:20241027T010000
END:STANDARD
BEGIN:DAYLIGHT
TZOFFSETFROM:+0000
TZOFFSETTO:+0100
TZNAME:BST
DTSTART:20250330T010000
END:DAYLIGHT
BEGIN:STANDARD
TZOFFSETFROM:+0100
TZOFFSETTO:+0000
TZNAME:GMT
DTSTART:20251026T010000
END:STANDARD
BEGIN:DAYLIGHT
TZOFFSETFROM:+0000
TZOFFSETTO:+0100
TZNAME:BST
DTSTART:20260329T010000
END:DAYLIGHT
BEGIN:STANDARD
TZOFFSETFROM:+0100
TZOFFSETTO:+0000
TZNAME:GMT
DTSTART:20261025T010000
END:STANDARD
END:VTIMEZONE
BEGIN:VEVENT
DTSTART;TZID=Europe/London:20251004T000000
DTEND;TZID=Europe/London:20251004T235959
DTSTAMP:20260423T094555
CREATED:20250111T131117Z
LAST-MODIFIED:20250111T131117Z
UID:2728-1759536000-1759622399@www.welshcorgileague.org
SUMMARY:SOUTH WEST WELSH CORGI CLUB
DESCRIPTION:JUDGE: MRS MH DAVIES
URL:https://www.welshcorgileague.org/event/south-west-welsh-corgi-club-2/
CATEGORIES:Championship Dog Show
END:VEVENT
BEGIN:VEVENT
DTSTART;TZID=Europe/London:20251011T000000
DTEND;TZID=Europe/London:20251011T235959
DTSTAMP:20260423T094555
CREATED:20250111T131117Z
LAST-MODIFIED:20250111T132331Z
UID:2729-1760140800-1760227199@www.welshcorgileague.org
SUMMARY:SO WALES KENNEL ASSOC
DESCRIPTION:JUDGE: MR J HORSWELL
URL:https://www.welshcorgileague.org/event/so-wales-kennel-assoc-4/
LOCATION:Royal Welsh Showground\, Bluith Wells\, LD2 3SY\, United Kingdom
CATEGORIES:Championship Dog Show
END:VEVENT
BEGIN:VEVENT
DTSTART;TZID=Europe/London:20251018T000000
DTEND;TZID=Europe/London:20251018T235959
DTSTAMP:20260423T094555
CREATED:20250111T131117Z
LAST-MODIFIED:20250111T131117Z
UID:2730-1760745600-1760831999@www.welshcorgileague.org
SUMMARY:PENNINE & YORKSHIRE WCA
DESCRIPTION:JUDGE: MISS C SONBERG
URL:https://www.welshcorgileague.org/event/pennine-yorkshire-wca-4/
CATEGORIES:Championship Dog Show
END:VEVENT
BEGIN:VEVENT
DTSTART;TZID=Europe/London:20251023T000000
DTEND;TZID=Europe/London:20251023T235959
DTSTAMP:20260423T094555
CREATED:20250111T131120Z
LAST-MODIFIED:20250123T182809Z
UID:2731-1761177600-1761263999@www.welshcorgileague.org
SUMMARY:MIDLAND COUNTIES
DESCRIPTION:JUDGE: MRS JE WHITEHEAD
URL:https://www.welshcorgileague.org/event/midland-counties-4/
LOCATION:Staffordshire County Showground\, Stafford\, ST18 0BD\, United Kingdom
CATEGORIES:Championship Dog Show
END:VEVENT
END:VCALENDAR