BEGIN:VCALENDAR
VERSION:2.0
PRODID:-//Welsh Corgi League - ECPv6.15.20//NONSGML v1.0//EN
CALSCALE:GREGORIAN
METHOD:PUBLISH
X-ORIGINAL-URL:https://www.welshcorgileague.org
X-WR-CALDESC:Events for Welsh Corgi League
REFRESH-INTERVAL;VALUE=DURATION:PT1H
X-Robots-Tag:noindex
X-PUBLISHED-TTL:PT1H
BEGIN:VTIMEZONE
TZID:Europe/London
BEGIN:DAYLIGHT
TZOFFSETFROM:+0000
TZOFFSETTO:+0100
TZNAME:BST
DTSTART:20240331T010000
END:DAYLIGHT
BEGIN:STANDARD
TZOFFSETFROM:+0100
TZOFFSETTO:+0000
TZNAME:GMT
DTSTART:20241027T010000
END:STANDARD
BEGIN:DAYLIGHT
TZOFFSETFROM:+0000
TZOFFSETTO:+0100
TZNAME:BST
DTSTART:20250330T010000
END:DAYLIGHT
BEGIN:STANDARD
TZOFFSETFROM:+0100
TZOFFSETTO:+0000
TZNAME:GMT
DTSTART:20251026T010000
END:STANDARD
BEGIN:DAYLIGHT
TZOFFSETFROM:+0000
TZOFFSETTO:+0100
TZNAME:BST
DTSTART:20260329T010000
END:DAYLIGHT
BEGIN:STANDARD
TZOFFSETFROM:+0100
TZOFFSETTO:+0000
TZNAME:GMT
DTSTART:20261025T010000
END:STANDARD
END:VTIMEZONE
BEGIN:VEVENT
DTSTART;TZID=Europe/London:20250913T000000
DTEND;TZID=Europe/London:20250913T235959
DTSTAMP:20260423T112704
CREATED:20250111T131107Z
LAST-MODIFIED:20250111T132503Z
UID:2725-1757721600-1757807999@www.welshcorgileague.org
SUMMARY:DARLINGTON
DESCRIPTION:JUDGE: MR K YOUNG
URL:https://www.welshcorgileague.org/event/darlington-4/
LOCATION:Ripon Racecourse\, Ripon\, HG4 1UG\, United Kingdom
CATEGORIES:Championship Dog Show
END:VEVENT
BEGIN:VEVENT
DTSTART;TZID=Europe/London:20250928T000000
DTEND;TZID=Europe/London:20250928T235959
DTSTAMP:20260423T112704
CREATED:20250111T131116Z
LAST-MODIFIED:20250111T132433Z
UID:2726-1759017600-1759103999@www.welshcorgileague.org
SUMMARY:BELFAST
DESCRIPTION:JUDGE: TBA
URL:https://www.welshcorgileague.org/event/belfast-4/
LOCATION:Eikon Exhibition Centre\, Lisburn\, BT27 5RF\, United Kingdom
CATEGORIES:Championship Dog Show
END:VEVENT
BEGIN:VEVENT
DTSTART;TZID=Europe/London:20250928T000000
DTEND;TZID=Europe/London:20250928T235959
DTSTAMP:20260423T112704
CREATED:20250111T131117Z
LAST-MODIFIED:20250123T182716Z
UID:2727-1759017600-1759103999@www.welshcorgileague.org
SUMMARY:WCC OF ULSTER
DESCRIPTION:JUDGE: MRS J LAWLESS
URL:https://www.welshcorgileague.org/event/wcc-of-ulster-2/
CATEGORIES:Championship Dog Show
END:VEVENT
END:VCALENDAR