BEGIN:VCALENDAR
VERSION:2.0
PRODID:-//Welsh Corgi League - ECPv6.15.20//NONSGML v1.0//EN
CALSCALE:GREGORIAN
METHOD:PUBLISH
X-ORIGINAL-URL:https://www.welshcorgileague.org
X-WR-CALDESC:Events for Welsh Corgi League
REFRESH-INTERVAL;VALUE=DURATION:PT1H
X-Robots-Tag:noindex
X-PUBLISHED-TTL:PT1H
BEGIN:VTIMEZONE
TZID:Europe/London
BEGIN:DAYLIGHT
TZOFFSETFROM:+0000
TZOFFSETTO:+0100
TZNAME:BST
DTSTART:20240331T010000
END:DAYLIGHT
BEGIN:STANDARD
TZOFFSETFROM:+0100
TZOFFSETTO:+0000
TZNAME:GMT
DTSTART:20241027T010000
END:STANDARD
BEGIN:DAYLIGHT
TZOFFSETFROM:+0000
TZOFFSETTO:+0100
TZNAME:BST
DTSTART:20250330T010000
END:DAYLIGHT
BEGIN:STANDARD
TZOFFSETFROM:+0100
TZOFFSETTO:+0000
TZNAME:GMT
DTSTART:20251026T010000
END:STANDARD
BEGIN:DAYLIGHT
TZOFFSETFROM:+0000
TZOFFSETTO:+0100
TZNAME:BST
DTSTART:20260329T010000
END:DAYLIGHT
BEGIN:STANDARD
TZOFFSETFROM:+0100
TZOFFSETTO:+0000
TZNAME:GMT
DTSTART:20261025T010000
END:STANDARD
END:VTIMEZONE
BEGIN:VEVENT
DTSTART;TZID=Europe/London:20250801T000000
DTEND;TZID=Europe/London:20250803T235959
DTSTAMP:20260423T130151
CREATED:20250111T131106Z
LAST-MODIFIED:20250111T133646Z
UID:2721-1754006400-1754265599@www.welshcorgileague.org
SUMMARY:PAIGNTON
DESCRIPTION:JUDGE: TBA
URL:https://www.welshcorgileague.org/event/paignton/
LOCATION:Westpoint Exeter\, Clyst St Mary\, Exeter\, EX5 1DJ\, United Kingdom
CATEGORIES:Championship Dog Show
END:VEVENT
BEGIN:VEVENT
DTSTART;TZID=Europe/London:20250809T000000
DTEND;TZID=Europe/London:20250809T235959
DTSTAMP:20260423T130151
CREATED:20250111T131107Z
LAST-MODIFIED:20250111T133325Z
UID:2722-1754697600-1754783999@www.welshcorgileague.org
SUMMARY:BOURNEMOUTH
DESCRIPTION:JUDGE: MRS C TURNER
URL:https://www.welshcorgileague.org/event/bournemouth-4/
LOCATION:New Forest Showground\, New Park\, Clay Hill\, Brockenhurst\, New Forest\, SO42 7QH\, United Kingdom
CATEGORIES:Championship Dog Show
END:VEVENT
BEGIN:VEVENT
DTSTART;TZID=Europe/London:20250816T000000
DTEND;TZID=Europe/London:20250816T235959
DTSTAMP:20260423T130151
CREATED:20250111T131107Z
LAST-MODIFIED:20250123T182624Z
UID:2723-1755302400-1755388799@www.welshcorgileague.org
SUMMARY:WELSH KENNEL CLUB
DESCRIPTION:JUDGE: MRS L PRESTON
URL:https://www.welshcorgileague.org/event/welsh-kennel-club-4/
LOCATION:Royal Welsh Showground\, Bluith Wells\, LD2 3SY\, United Kingdom
CATEGORIES:Championship Dog Show
END:VEVENT
BEGIN:VEVENT
DTSTART;TZID=Europe/London:20250828T000000
DTEND;TZID=Europe/London:20250828T235959
DTSTAMP:20260423T130151
CREATED:20250111T131107Z
LAST-MODIFIED:20250111T133517Z
UID:2724-1756339200-1756425599@www.welshcorgileague.org
SUMMARY:CITY OF BIRMINGHAM
DESCRIPTION:JUDGE: DR D STURZ
URL:https://www.welshcorgileague.org/event/city-of-birmingham-4/
LOCATION:Stoneleigh Park\, Coventry\, CV8 2LZ\, United Kingdom
CATEGORIES:Championship Dog Show
END:VEVENT
END:VCALENDAR