BEGIN:VCALENDAR
VERSION:2.0
PRODID:-//Welsh Corgi League - ECPv6.15.20//NONSGML v1.0//EN
CALSCALE:GREGORIAN
METHOD:PUBLISH
X-WR-CALNAME:Welsh Corgi League
X-ORIGINAL-URL:https://www.welshcorgileague.org
X-WR-CALDESC:Events for Welsh Corgi League
REFRESH-INTERVAL;VALUE=DURATION:PT1H
X-Robots-Tag:noindex
X-PUBLISHED-TTL:PT1H
BEGIN:VTIMEZONE
TZID:Europe/London
BEGIN:DAYLIGHT
TZOFFSETFROM:+0000
TZOFFSETTO:+0100
TZNAME:BST
DTSTART:20240331T010000
END:DAYLIGHT
BEGIN:STANDARD
TZOFFSETFROM:+0100
TZOFFSETTO:+0000
TZNAME:GMT
DTSTART:20241027T010000
END:STANDARD
BEGIN:DAYLIGHT
TZOFFSETFROM:+0000
TZOFFSETTO:+0100
TZNAME:BST
DTSTART:20250330T010000
END:DAYLIGHT
BEGIN:STANDARD
TZOFFSETFROM:+0100
TZOFFSETTO:+0000
TZNAME:GMT
DTSTART:20251026T010000
END:STANDARD
BEGIN:DAYLIGHT
TZOFFSETFROM:+0000
TZOFFSETTO:+0100
TZNAME:BST
DTSTART:20260329T010000
END:DAYLIGHT
BEGIN:STANDARD
TZOFFSETFROM:+0100
TZOFFSETTO:+0000
TZNAME:GMT
DTSTART:20261025T010000
END:STANDARD
END:VTIMEZONE
BEGIN:VEVENT
DTSTART;TZID=Europe/London:20250703T000000
DTEND;TZID=Europe/London:20250703T235959
DTSTAMP:20260423T144641
CREATED:20250111T131052Z
LAST-MODIFIED:20250111T134346Z
UID:2718-1751500800-1751587199@www.welshcorgileague.org
SUMMARY:BOSTON
DESCRIPTION:JUDGE: MS M SARGENT
URL:https://www.welshcorgileague.org/event/boston/
LOCATION:Rutland Showground\, Showground Way\, Barleythorpe\, Oakham\, Rutland\, LE15 7TW\, United Kingdom
CATEGORIES:Championship Dog Show
END:VEVENT
BEGIN:VEVENT
DTSTART;TZID=Europe/London:20250712T000000
DTEND;TZID=Europe/London:20250712T235959
DTSTAMP:20260423T144641
CREATED:20250111T131052Z
LAST-MODIFIED:20250111T133809Z
UID:2719-1752278400-1752364799@www.welshcorgileague.org
SUMMARY:NATIONAL WORKING & PASTORAL BREEDS
DESCRIPTION:JUDGE: MISS F FRICKER
URL:https://www.welshcorgileague.org/event/national-working-pastoral-breeds-4/
LOCATION:Three Counties Showground\, Malvern\, WR13 6NW\, United Kingdom
CATEGORIES:Championship Dog Show
END:VEVENT
BEGIN:VEVENT
DTSTART;TZID=Europe/London:20250719T000000
DTEND;TZID=Europe/London:20250719T235959
DTSTAMP:20260423T144641
CREATED:20250415T174450Z
LAST-MODIFIED:20250415T175314Z
UID:2811-1752883200-1752969599@www.welshcorgileague.org
SUMMARY:CORGI FEST 2025
DESCRIPTION:A Corgi festival of talks\, demos\, Obedience\, Rally\, Agility and have-a-go including ringcraft & more ! \nSUPPORTED BY THE PENNINE & YORKSHIRE WELSH CORGI ASSOCIATION \nMore Info on Facebook: https://www.facebook.com/people/Corgi-Fest-UK/61571132113310/ \nLink to tickets: https://www.eventbrite.co.uk/e/corgifest-2025-tickets-1227763677209
URL:https://www.welshcorgileague.org/event/corgi-fest-2025/
LOCATION:Dunham on Trent & district Village Hall\, Low Street\, Dunham\, NG22 0FJ
CATEGORIES:Welsh Corgi League Event
END:VEVENT
BEGIN:VEVENT
DTSTART;TZID=Europe/London:20250720T000000
DTEND;TZID=Europe/London:20250720T235959
DTSTAMP:20260423T144641
CREATED:20250516T120442Z
LAST-MODIFIED:20250516T120442Z
UID:2827-1752969600-1753055999@www.welshcorgileague.org
SUMMARY:SOUTHERN SECTION SUMMER PARTY
DESCRIPTION:
URL:https://www.welshcorgileague.org/event/southern-section-summer-party/
CATEGORIES:Welsh Corgi League Event
END:VEVENT
BEGIN:VEVENT
DTSTART;TZID=Europe/London:20250725T000000
DTEND;TZID=Europe/London:20250725T235959
DTSTAMP:20260423T144641
CREATED:20250111T131052Z
LAST-MODIFIED:20250111T133735Z
UID:2720-1753401600-1753487999@www.welshcorgileague.org
SUMMARY:LEEDS
DESCRIPTION:JUDGE: MR A WIGHT
URL:https://www.welshcorgileague.org/event/leeds-4/
LOCATION:Harewood House\, Leeds\, LS17 9LQ\, United Kingdom
CATEGORIES:Championship Dog Show
END:VEVENT
BEGIN:VEVENT
DTSTART;TZID=Europe/London:20250729T000000
DTEND;TZID=Europe/London:20250729T235959
DTSTAMP:20260423T144641
CREATED:20250205T125146Z
LAST-MODIFIED:20250205T125146Z
UID:2782-1753747200-1753833599@www.welshcorgileague.org
SUMMARY:BREED LUNCH AT THE KENNEL CLUB
DESCRIPTION:The League committee felt it might be good to arrange a breed lunch at the Kennel Club\, open to members\, plus one guest if they wish. \nThe date will be Tuesday July 29\, 2025. \nThe details are as follows: “As part of your visit\, your group will be taken on a tour of our unique library and art collections\, with a talk by our knowledgeable heritage team\, specially tailored to your breed. This is an opportunity for us to share our collections with you and for you to consider how you can contribute to our canine heritage as well. \n“Schedule: 11:30 Tea/coffee upon arrival at the Royal Kennel Club\, 10 Clarges Street London W1J8AB. \n11:45 Library talk/Gallery tour - tailored to the respective breed or activity. \n12.30 Pre-lunch drink in the bar. \n13:00 Lunch in the dining room (Those choosing not to take the tour should arrive for 12:30). \n“Dress code: Club rules apply; gentlemen are required to wear a suit or jacket\, trousers and tie\, similar standards of dress are expected of ladies (smart trouser suits are acceptable). Jeans\, leggings and trainers are not acceptable. \n“The cost of the event will be £55.00 to include a glass of bubbles\, a three-course set lunch with a glass of wine\, followed by tea/coffee and petit fours. Reservations and payments can be made by phone by contacting the KC team on 0207 518 1017. Unfortunately\, they cannot accept bank transfers for individual payments. \n“Please let the Club Team know if you have any dietary requirements or food allergies. At least two weeks prior to your event we will need a full list of attendees. \n“Note our cancellation notice period is 48 hours. The full amount will be incurred for no-shows. All cancellations need to be confirmed via email.”  \nIf you would like to go\, please contact both the KC team on the number above to reserve your place and make payment\, and Simon Parsons (via Messenger or email) who will keep a list of those attending. First come\, first served! Maximum 50 people.
URL:https://www.welshcorgileague.org/event/breed-lunch-at-the-kennel-club/
LOCATION:Royal Kennel Club\, 10 Clarges Street\, London\, W1J 8AB\, United Kingdom
CATEGORIES:Welsh Corgi League Event
END:VEVENT
END:VCALENDAR