BEGIN:VCALENDAR
VERSION:2.0
PRODID:-//Welsh Corgi League - ECPv6.15.20//NONSGML v1.0//EN
CALSCALE:GREGORIAN
METHOD:PUBLISH
X-WR-CALNAME:Welsh Corgi League
X-ORIGINAL-URL:https://www.welshcorgileague.org
X-WR-CALDESC:Events for Welsh Corgi League
REFRESH-INTERVAL;VALUE=DURATION:PT1H
X-Robots-Tag:noindex
X-PUBLISHED-TTL:PT1H
BEGIN:VTIMEZONE
TZID:Europe/London
BEGIN:DAYLIGHT
TZOFFSETFROM:+0000
TZOFFSETTO:+0100
TZNAME:BST
DTSTART:20230326T010000
END:DAYLIGHT
BEGIN:STANDARD
TZOFFSETFROM:+0100
TZOFFSETTO:+0000
TZNAME:GMT
DTSTART:20231029T010000
END:STANDARD
BEGIN:DAYLIGHT
TZOFFSETFROM:+0000
TZOFFSETTO:+0100
TZNAME:BST
DTSTART:20240331T010000
END:DAYLIGHT
BEGIN:STANDARD
TZOFFSETFROM:+0100
TZOFFSETTO:+0000
TZNAME:GMT
DTSTART:20241027T010000
END:STANDARD
BEGIN:DAYLIGHT
TZOFFSETFROM:+0000
TZOFFSETTO:+0100
TZNAME:BST
DTSTART:20250330T010000
END:DAYLIGHT
BEGIN:STANDARD
TZOFFSETFROM:+0100
TZOFFSETTO:+0000
TZNAME:GMT
DTSTART:20251026T010000
END:STANDARD
END:VTIMEZONE
BEGIN:VEVENT
DTSTART;TZID=Europe/London:20241201T000000
DTEND;TZID=Europe/London:20241201T235959
DTSTAMP:20260425T154525
CREATED:20241017T062944Z
LAST-MODIFIED:20241017T063148Z
UID:2504-1733011200-1733097599@www.welshcorgileague.org
SUMMARY:SOUTHERN SECTION XMAS PARTY
DESCRIPTION:2pm on Sunday 1st Dec 2024 at Worplesdon Village Hall\, Worplesdon\, Nr Guildford\,Surrey. GU33RF \nPlease contact  Lynne Creech by email for more details
URL:https://www.welshcorgileague.org/event/southern-section-xmas-party/
LOCATION:Worplesdon Memorial Hall\, Perry Hill\, Worplesdon\, Guildford\, GU3 3RF\, United Kingdom
CATEGORIES:Welsh Corgi League Event
END:VEVENT
END:VCALENDAR