BEGIN:VCALENDAR
VERSION:2.0
PRODID:-//Welsh Corgi League - ECPv6.15.20//NONSGML v1.0//EN
CALSCALE:GREGORIAN
METHOD:PUBLISH
X-ORIGINAL-URL:https://www.welshcorgileague.org
X-WR-CALDESC:Events for Welsh Corgi League
REFRESH-INTERVAL;VALUE=DURATION:PT1H
X-Robots-Tag:noindex
X-PUBLISHED-TTL:PT1H
BEGIN:VTIMEZONE
TZID:Europe/London
BEGIN:DAYLIGHT
TZOFFSETFROM:+0000
TZOFFSETTO:+0100
TZNAME:BST
DTSTART:20230326T010000
END:DAYLIGHT
BEGIN:STANDARD
TZOFFSETFROM:+0100
TZOFFSETTO:+0000
TZNAME:GMT
DTSTART:20231029T010000
END:STANDARD
BEGIN:DAYLIGHT
TZOFFSETFROM:+0000
TZOFFSETTO:+0100
TZNAME:BST
DTSTART:20240331T010000
END:DAYLIGHT
BEGIN:STANDARD
TZOFFSETFROM:+0100
TZOFFSETTO:+0000
TZNAME:GMT
DTSTART:20241027T010000
END:STANDARD
BEGIN:DAYLIGHT
TZOFFSETFROM:+0000
TZOFFSETTO:+0100
TZNAME:BST
DTSTART:20250330T010000
END:DAYLIGHT
BEGIN:STANDARD
TZOFFSETFROM:+0100
TZOFFSETTO:+0000
TZNAME:GMT
DTSTART:20251026T010000
END:STANDARD
END:VTIMEZONE
BEGIN:VEVENT
DTSTART;TZID=Europe/London:20241109T000000
DTEND;TZID=Europe/London:20241109T235959
DTSTAMP:20260425T171109
CREATED:20241017T063430Z
LAST-MODIFIED:20241017T063430Z
UID:2507-1731110400-1731196799@www.welshcorgileague.org
SUMMARY:SCOTTISH SECTION HALLOWEEN PARTY
DESCRIPTION:9th November 2024  at East Whitburn Community Education Centre\, Hens Nest Rd\, East Whitburn\, Bathgate EH47 8EX \n11.30 am Members Match - Lunch 12.15 pm -1.00pm Party  Classes for all \nContact Lisa Franchi by email
URL:https://www.welshcorgileague.org/event/scottish-section-halloween-party/
LOCATION:East Whitburn Community Centre\, Hens Nest Rd\, Bathgate\, EH47 8EX
CATEGORIES:Welsh Corgi League Event
END:VEVENT
END:VCALENDAR