BEGIN:VCALENDAR
VERSION:2.0
PRODID:-//Welsh Corgi League - ECPv6.15.20//NONSGML v1.0//EN
CALSCALE:GREGORIAN
METHOD:PUBLISH
X-WR-CALNAME:Welsh Corgi League
X-ORIGINAL-URL:https://www.welshcorgileague.org
X-WR-CALDESC:Events for Welsh Corgi League
REFRESH-INTERVAL;VALUE=DURATION:PT1H
X-Robots-Tag:noindex
X-PUBLISHED-TTL:PT1H
BEGIN:VTIMEZONE
TZID:Europe/London
BEGIN:DAYLIGHT
TZOFFSETFROM:+0000
TZOFFSETTO:+0100
TZNAME:BST
DTSTART:20210328T010000
END:DAYLIGHT
BEGIN:STANDARD
TZOFFSETFROM:+0100
TZOFFSETTO:+0000
TZNAME:GMT
DTSTART:20211031T010000
END:STANDARD
BEGIN:DAYLIGHT
TZOFFSETFROM:+0000
TZOFFSETTO:+0100
TZNAME:BST
DTSTART:20220327T010000
END:DAYLIGHT
BEGIN:STANDARD
TZOFFSETFROM:+0100
TZOFFSETTO:+0000
TZNAME:GMT
DTSTART:20221030T010000
END:STANDARD
BEGIN:DAYLIGHT
TZOFFSETFROM:+0000
TZOFFSETTO:+0100
TZNAME:BST
DTSTART:20230326T010000
END:DAYLIGHT
BEGIN:STANDARD
TZOFFSETFROM:+0100
TZOFFSETTO:+0000
TZNAME:GMT
DTSTART:20231029T010000
END:STANDARD
END:VTIMEZONE
BEGIN:VEVENT
DTSTART;VALUE=DATE:20221028
DTEND;VALUE=DATE:20221029
DTSTAMP:20260422T031119
CREATED:20211101T111948Z
LAST-MODIFIED:20211101T111948Z
UID:1311-1666915200-1667001599@www.welshcorgileague.org
SUMMARY:MIDLAND COUNTIES
DESCRIPTION:JUDGE: MRS CA FROGGATT
URL:https://www.welshcorgileague.org/event/midland-counties-2/
CATEGORIES:Championship Dog Show
END:VEVENT
BEGIN:VEVENT
DTSTART;VALUE=DATE:20221022
DTEND;VALUE=DATE:20221023
DTSTAMP:20260422T031119
CREATED:20211101T111829Z
LAST-MODIFIED:20211101T111829Z
UID:1309-1666396800-1666483199@www.welshcorgileague.org
SUMMARY:PENNINE & YORKSHIRE WCA
DESCRIPTION:JUDGE: MR T NAGRECHA
URL:https://www.welshcorgileague.org/event/pennine-yorkshire-wca-2/
CATEGORIES:Championship Dog Show
END:VEVENT
BEGIN:VEVENT
DTSTART;VALUE=DATE:20221008
DTEND;VALUE=DATE:20221009
DTSTAMP:20260422T031119
CREATED:20211101T120916Z
LAST-MODIFIED:20211101T120916Z
UID:1348-1665187200-1665273599@www.welshcorgileague.org
SUMMARY:WELSH CORGI CLUB OF CAMBRIA OPEN SHOW
DESCRIPTION:JUDGE: TBC
URL:https://www.welshcorgileague.org/event/welsh-corgi-club-of-cambria-open-show-2/
END:VEVENT
BEGIN:VEVENT
DTSTART;VALUE=DATE:20221008
DTEND;VALUE=DATE:20221009
DTSTAMP:20260422T031119
CREATED:20211101T111750Z
LAST-MODIFIED:20211101T111750Z
UID:1307-1665187200-1665273599@www.welshcorgileague.org
SUMMARY:SO WALES KENNEL ASSOC
DESCRIPTION:JUDGE: MISS S TAYLOR
URL:https://www.welshcorgileague.org/event/so-wales-kennel-assoc-2/
LOCATION:Royal Welsh Showground\, Bluith Wells\, LD2 3SY\, United Kingdom
CATEGORIES:Championship Dog Show
END:VEVENT
BEGIN:VEVENT
DTSTART;VALUE=DATE:20221002
DTEND;VALUE=DATE:20221003
DTSTAMP:20260422T031119
CREATED:20211101T111557Z
LAST-MODIFIED:20211101T111557Z
UID:1305-1664668800-1664755199@www.welshcorgileague.org
SUMMARY:SKC
DESCRIPTION:JUDGE: TBC
URL:https://www.welshcorgileague.org/event/skc-4/
CATEGORIES:Championship Dog Show
END:VEVENT
BEGIN:VEVENT
DTSTART;VALUE=DATE:20221001
DTEND;VALUE=DATE:20221002
DTSTAMP:20260422T031119
CREATED:20211101T111332Z
LAST-MODIFIED:20211101T111332Z
UID:1303-1664582400-1664668799@www.welshcorgileague.org
SUMMARY:SOUTH WEST WCC
DESCRIPTION:JUDGE: MRS R GARDENER
URL:https://www.welshcorgileague.org/event/south-west-wcc-3/
CATEGORIES:Championship Dog Show
END:VEVENT
BEGIN:VEVENT
DTSTART;VALUE=DATE:20220925
DTEND;VALUE=DATE:20220926
DTSTAMP:20260422T031119
CREATED:20211101T111259Z
LAST-MODIFIED:20220312T210652Z
UID:1301-1664064000-1664150399@www.welshcorgileague.org
SUMMARY:BELFAST
DESCRIPTION:JUDGE: MR J RITCHIE
URL:https://www.welshcorgileague.org/event/belfast-2/
LOCATION:Eikon Exhibition Centre\, Lisburn\, BT27 5RF\, United Kingdom
CATEGORIES:Championship Dog Show
END:VEVENT
BEGIN:VEVENT
DTSTART;VALUE=DATE:20220917
DTEND;VALUE=DATE:20220918
DTSTAMP:20260422T031119
CREATED:20211101T111026Z
LAST-MODIFIED:20211101T111026Z
UID:1299-1663372800-1663459199@www.welshcorgileague.org
SUMMARY:DARLINGTON
DESCRIPTION:JUDGE: MRS L BOULTON
URL:https://www.welshcorgileague.org/event/darlington-2/
LOCATION:Ripon Racecourse\, Ripon\, HG4 1UG\, United Kingdom
CATEGORIES:Championship Dog Show
END:VEVENT
BEGIN:VEVENT
DTSTART;VALUE=DATE:20220903
DTEND;VALUE=DATE:20220904
DTSTAMP:20260422T031119
CREATED:20211101T110945Z
LAST-MODIFIED:20220110T095843Z
UID:1297-1662163200-1662249599@www.welshcorgileague.org
SUMMARY:CITY OF BIRMINGHAM
DESCRIPTION:JUDGE: MR KS WILBERG
URL:https://www.welshcorgileague.org/event/city-of-birmingham-2/
LOCATION:Stoneleigh Park\, Coventry\, CV8 2LZ\, United Kingdom
CATEGORIES:Championship Dog Show
END:VEVENT
BEGIN:VEVENT
DTSTART;VALUE=DATE:20220819
DTEND;VALUE=DATE:20220820
DTSTAMP:20260422T031119
CREATED:20211101T110707Z
LAST-MODIFIED:20211101T110707Z
UID:1295-1660867200-1660953599@www.welshcorgileague.org
SUMMARY:WELSH KENNEL CLUB
DESCRIPTION:JUDGE: MRS MH DAVIES
URL:https://www.welshcorgileague.org/event/welsh-kennel-club-2/
LOCATION:Royal Welsh Showground\, Bluith Wells\, LD2 3SY\, United Kingdom
CATEGORIES:Championship Dog Show
END:VEVENT
BEGIN:VEVENT
DTSTART;VALUE=DATE:20220813
DTEND;VALUE=DATE:20220814
DTSTAMP:20260422T031119
CREATED:20211101T110206Z
LAST-MODIFIED:20211101T110206Z
UID:1293-1660348800-1660435199@www.welshcorgileague.org
SUMMARY:BOURNEMOUTH
DESCRIPTION:JUDGE: MR K BALDWIN
URL:https://www.welshcorgileague.org/event/bournemouth-2/
LOCATION:Pikes Farm\, Poole\, BH16 6ES\, United Kingdom
CATEGORIES:Championship Dog Show
END:VEVENT
BEGIN:VEVENT
DTSTART;VALUE=DATE:20220806
DTEND;VALUE=DATE:20220807
DTSTAMP:20260422T031119
CREATED:20211101T120843Z
LAST-MODIFIED:20211101T120843Z
UID:1346-1659744000-1659830399@www.welshcorgileague.org
SUMMARY:SO WALES WCC OPEN SHOW
DESCRIPTION:JUDGE: TBC \nDATE TO BE CONFIRMED
URL:https://www.welshcorgileague.org/event/so-wales-wcc-open-show/
END:VEVENT
BEGIN:VEVENT
DTSTART;TZID=Europe/London:20220724T140000
DTEND;TZID=Europe/London:20220724T140000
DTSTAMP:20260422T031119
CREATED:20220407T120347Z
LAST-MODIFIED:20220721T092035Z
UID:1458-1658671200-1658671200@www.welshcorgileague.org
SUMMARY:WCL SOUTHERN SECTION SUMMER PARTYCANCELLED
DESCRIPTION:Southern Section of WCL encourage new and seasoned corgi owners to come and join in the fun of the Summer and Christmas parties. At our next party on 24 July 2022\, we are going to have an introduction to help and advise those who would like to take up this pastime of showing their dog\, from how to find a show\, completing the paperwork\, showing your dog to the judge etc. If anyone would like to join us\, you would be most welcome but please ring first as it is a party and we provide a homemade tea and we need to have an idea of numbers.\n01823 461699\nCost is £5 each payable on the door. Venue is: Worplesdon Memorial Hall\, near Guildford \nUNFORTUNATELY THIS EVENT HAS BEEN CANCELLED
URL:https://www.welshcorgileague.org/event/wcl-southern-section-summer-party/
LOCATION:Worplesdon Memorial Hall\, Perry Hill\, Worplesdon\, Guildford\, GU3 3RF\, United Kingdom
CATEGORIES:Welsh Corgi League Event
END:VEVENT
BEGIN:VEVENT
DTSTART;VALUE=DATE:20220722
DTEND;VALUE=DATE:20220723
DTSTAMP:20260422T031119
CREATED:20211101T110013Z
LAST-MODIFIED:20220110T095753Z
UID:1291-1658448000-1658534399@www.welshcorgileague.org
SUMMARY:LEEDS
DESCRIPTION:JUDGE: MR H OGDEN
URL:https://www.welshcorgileague.org/event/leeds-2/
LOCATION:Harewood House\, Leeds\, LS17 9LQ\, United Kingdom
CATEGORIES:Championship Dog Show
END:VEVENT
BEGIN:VEVENT
DTSTART;VALUE=DATE:20220716
DTEND;VALUE=DATE:20220717
DTSTAMP:20260422T031119
CREATED:20211101T105912Z
LAST-MODIFIED:20211101T105912Z
UID:1287-1657929600-1658015999@www.welshcorgileague.org
SUMMARY:NATIONAL WORKING & PASTORAL BREEDS
DESCRIPTION:JUDGE: MRS ETM BARLOW
URL:https://www.welshcorgileague.org/event/national-working-pastoral-breeds-2/
CATEGORIES:Championship Dog Show
END:VEVENT
BEGIN:VEVENT
DTSTART;VALUE=DATE:20220708
DTEND;VALUE=DATE:20220709
DTSTAMP:20260422T031119
CREATED:20211101T105705Z
LAST-MODIFIED:20211101T105705Z
UID:1285-1657238400-1657324799@www.welshcorgileague.org
SUMMARY:EAST OF ENGLAND
DESCRIPTION:JUDGE: MISS TJ IRVING
URL:https://www.welshcorgileague.org/event/east-of-england-2/
LOCATION:East of England Showground\, Peterborough\, PE2 6HE\, United Kingdom
CATEGORIES:Championship Dog Show
END:VEVENT
BEGIN:VEVENT
DTSTART;VALUE=DATE:20220702
DTEND;VALUE=DATE:20220703
DTSTAMP:20260422T031119
CREATED:20211101T104041Z
LAST-MODIFIED:20211101T104041Z
UID:1283-1656720000-1656806399@www.welshcorgileague.org
SUMMARY:SECA
DESCRIPTION:JUDGE: TBC
URL:https://www.welshcorgileague.org/event/seca/
CATEGORIES:Championship Dog Show
END:VEVENT
BEGIN:VEVENT
DTSTART;VALUE=DATE:20220702
DTEND;VALUE=DATE:20220703
DTSTAMP:20260422T031119
CREATED:20211101T103920Z
LAST-MODIFIED:20211101T103920Z
UID:1281-1656720000-1656806399@www.welshcorgileague.org
SUMMARY:WINDSOR
DESCRIPTION:JUDGE: MR KR NEWHOUSE
URL:https://www.welshcorgileague.org/event/windsor-2/
LOCATION:Home Park\, Windsor\, SL4 6HX\, United Kingdom
CATEGORIES:Championship Dog Show
END:VEVENT
BEGIN:VEVENT
DTSTART;VALUE=DATE:20220618
DTEND;VALUE=DATE:20220619
DTSTAMP:20260422T031119
CREATED:20211101T103519Z
LAST-MODIFIED:20211101T103519Z
UID:1278-1655510400-1655596799@www.welshcorgileague.org
SUMMARY:BORDER UNION
DESCRIPTION:JUDGE: MR DJ ASBRIDGE
URL:https://www.welshcorgileague.org/event/border-union-2/
LOCATION:Borders Event Centre\, Springwood Park\, Kelso\, TD5 8LS\, United Kingdom
CATEGORIES:Championship Dog Show
END:VEVENT
BEGIN:VEVENT
DTSTART;VALUE=DATE:20220611
DTEND;VALUE=DATE:20220612
DTSTAMP:20260422T031119
CREATED:20211101T120803Z
LAST-MODIFIED:20211101T120803Z
UID:1343-1654905600-1654991999@www.welshcorgileague.org
SUMMARY:WELSH CORGI CLUB OF CAMBRIA OPEN SHOW
DESCRIPTION:JUDGE: MRS S BIRD
URL:https://www.welshcorgileague.org/event/welsh-corgi-club-of-cambria-open-show/
END:VEVENT
BEGIN:VEVENT
DTSTART;VALUE=DATE:20220611
DTEND;VALUE=DATE:20220612
DTSTAMP:20260422T031119
CREATED:20211101T103114Z
LAST-MODIFIED:20211101T103114Z
UID:1276-1654905600-1654991999@www.welshcorgileague.org
SUMMARY:THREE COUNTIES
DESCRIPTION:JUDGE: MRS CA SMEDLEY
URL:https://www.welshcorgileague.org/event/three-counties-2/
LOCATION:Three Counties Showground\, Malvern\, WR13 6NW\, United Kingdom
CATEGORIES:Championship Dog Show
END:VEVENT
BEGIN:VEVENT
DTSTART;VALUE=DATE:20220605
DTEND;VALUE=DATE:20220606
DTSTAMP:20260422T031119
CREATED:20211101T102843Z
LAST-MODIFIED:20211101T102843Z
UID:1274-1654387200-1654473599@www.welshcorgileague.org
SUMMARY:SOUTHERN COUNTIES
DESCRIPTION:JUDGE: MRS DR STANSBURY
URL:https://www.welshcorgileague.org/event/southern-counties-2/
LOCATION:The Newbury Showground\, Newbury\, RG18 9QZ\, United Kingdom
CATEGORIES:Championship Dog Show
END:VEVENT
BEGIN:VEVENT
DTSTART;VALUE=DATE:20220529
DTEND;VALUE=DATE:20220530
DTSTAMP:20260422T031119
CREATED:20211101T120720Z
LAST-MODIFIED:20211101T120729Z
UID:1340-1653782400-1653868799@www.welshcorgileague.org
SUMMARY:WELSH CORGI CLUB OPEN SHOW
DESCRIPTION:JUDGE: TBC
URL:https://www.welshcorgileague.org/event/welsh-corgi-club/
END:VEVENT
BEGIN:VEVENT
DTSTART;VALUE=DATE:20220529
DTEND;VALUE=DATE:20220530
DTSTAMP:20260422T031119
CREATED:20211101T102622Z
LAST-MODIFIED:20211101T102622Z
UID:1272-1653782400-1653868799@www.welshcorgileague.org
SUMMARY:BATH
DESCRIPTION:JUDGE: MISS AJ REES
URL:https://www.welshcorgileague.org/event/bath-2/
LOCATION:Three Shire Field\, Bath\, BA1 8EG\, United Kingdom
CATEGORIES:Championship Dog Show
END:VEVENT
BEGIN:VEVENT
DTSTART;VALUE=DATE:20220521
DTEND;VALUE=DATE:20220522
DTSTAMP:20260422T031119
CREATED:20211101T102419Z
LAST-MODIFIED:20211101T102419Z
UID:1269-1653091200-1653177599@www.welshcorgileague.org
SUMMARY:SKC
DESCRIPTION:JUDGE: MR GA HILL
URL:https://www.welshcorgileague.org/event/skc/
CATEGORIES:Championship Dog Show
END:VEVENT
BEGIN:VEVENT
DTSTART;VALUE=DATE:20220508
DTEND;VALUE=DATE:20220509
DTSTAMP:20260422T031119
CREATED:20211101T102348Z
LAST-MODIFIED:20211101T102348Z
UID:1267-1651968000-1652054399@www.welshcorgileague.org
SUMMARY:BIRMINGHAM NATIONAL
DESCRIPTION:JUDGE: MR K DOVER
URL:https://www.welshcorgileague.org/event/birmingham-national-2/
CATEGORIES:Championship Dog Show
END:VEVENT
BEGIN:VEVENT
DTSTART;VALUE=DATE:20220501
DTEND;VALUE=DATE:20220502
DTSTAMP:20260422T031119
CREATED:20211101T102314Z
LAST-MODIFIED:20220110T095721Z
UID:1265-1651363200-1651449599@www.welshcorgileague.org
SUMMARY:MIDLAND & EASTERN COUNTIES WCC
DESCRIPTION:JUDGE: MRS DM KING
URL:https://www.welshcorgileague.org/event/midland-eastern-counties-wcc/
CATEGORIES:Championship Dog Show
END:VEVENT
BEGIN:VEVENT
DTSTART;VALUE=DATE:20220430
DTEND;VALUE=DATE:20220501
DTSTAMP:20260422T031119
CREATED:20211101T102230Z
LAST-MODIFIED:20220312T211122Z
UID:1263-1651276800-1651363199@www.welshcorgileague.org
SUMMARY:WCL
DESCRIPTION:JUDGE: MRS B DU PREE \nShow schedule and online entries: https://www.fossedata.co.uk/shows/The-Welsh-Corgi-League-April-2022.aspx
URL:https://www.welshcorgileague.org/event/wcl-2/
LOCATION:Stoneleigh Park\, Coventry\, CV8 2LZ\, United Kingdom
CATEGORIES:Championship Dog Show,Welsh Corgi League Event
END:VEVENT
BEGIN:VEVENT
DTSTART;VALUE=DATE:20220423
DTEND;VALUE=DATE:20220424
DTSTAMP:20260422T031119
CREATED:20211101T101956Z
LAST-MODIFIED:20220110T114932Z
UID:1261-1650672000-1650758399@www.welshcorgileague.org
SUMMARY:WELKS
DESCRIPTION:JUDGE: MR AA BARLOW \nShow Schedule and online entries: https://www.fossedata.co.uk/shows/West-of-England-Ladies-Kennel-Society-April-2022.aspx
URL:https://www.welshcorgileague.org/event/welks/
LOCATION:Three Counties Showground\, Malvern\, WR13 6NW\, United Kingdom
CATEGORIES:Championship Dog Show
END:VEVENT
BEGIN:VEVENT
DTSTART;VALUE=DATE:20220416
DTEND;VALUE=DATE:20220417
DTSTAMP:20260422T031119
CREATED:20211101T101907Z
LAST-MODIFIED:20211101T101907Z
UID:1259-1650067200-1650153599@www.welshcorgileague.org
SUMMARY:WORKING & PASTORAL BREEDS ASSOC OF WALES
DESCRIPTION:JUDGE: MS L FRANCHI
URL:https://www.welshcorgileague.org/event/working-pastoral-breeds-assoc-of-wales/
CATEGORIES:Championship Dog Show
END:VEVENT
END:VCALENDAR