BEGIN:VCALENDAR
VERSION:2.0
PRODID:-//Welsh Corgi League - ECPv6.15.20//NONSGML v1.0//EN
CALSCALE:GREGORIAN
METHOD:PUBLISH
X-WR-CALNAME:Welsh Corgi League
X-ORIGINAL-URL:https://www.welshcorgileague.org
X-WR-CALDESC:Events for Welsh Corgi League
REFRESH-INTERVAL;VALUE=DURATION:PT1H
X-Robots-Tag:noindex
X-PUBLISHED-TTL:PT1H
BEGIN:VTIMEZONE
TZID:Europe/London
BEGIN:DAYLIGHT
TZOFFSETFROM:+0000
TZOFFSETTO:+0100
TZNAME:BST
DTSTART:20200329T010000
END:DAYLIGHT
BEGIN:STANDARD
TZOFFSETFROM:+0100
TZOFFSETTO:+0000
TZNAME:GMT
DTSTART:20201025T010000
END:STANDARD
BEGIN:DAYLIGHT
TZOFFSETFROM:+0000
TZOFFSETTO:+0100
TZNAME:BST
DTSTART:20210328T010000
END:DAYLIGHT
BEGIN:STANDARD
TZOFFSETFROM:+0100
TZOFFSETTO:+0000
TZNAME:GMT
DTSTART:20211031T010000
END:STANDARD
BEGIN:DAYLIGHT
TZOFFSETFROM:+0000
TZOFFSETTO:+0100
TZNAME:BST
DTSTART:20220327T010000
END:DAYLIGHT
BEGIN:STANDARD
TZOFFSETFROM:+0100
TZOFFSETTO:+0000
TZNAME:GMT
DTSTART:20221030T010000
END:STANDARD
END:VTIMEZONE
BEGIN:VEVENT
DTSTART;VALUE=DATE:20210816
DTEND;VALUE=DATE:20210817
DTSTAMP:20260422T005431
CREATED:20210208T204356Z
LAST-MODIFIED:20210506T141857Z
UID:525-1629072000-1629158399@www.welshcorgileague.org
SUMMARY:BOURNEMOUTH
DESCRIPTION:JUDGE: MRS CA DAVIES \nView the Show Schedule here
URL:https://www.welshcorgileague.org/event/bournemouth/
LOCATION:Pikes Farm\, Poole\, BH16 6ES\, United Kingdom
CATEGORIES:Championship Dog Show
END:VEVENT
BEGIN:VEVENT
DTSTART;VALUE=DATE:20210809
DTEND;VALUE=DATE:20210810
DTSTAMP:20260422T005431
CREATED:20210208T204356Z
LAST-MODIFIED:20210506T141450Z
UID:524-1628467200-1628553599@www.welshcorgileague.org
SUMMARY:SOUTH WEST WCC
DESCRIPTION:JUDGE: MRS SE BURGESS \nHeld in conjunction with Paignton & District Championship Show.
URL:https://www.welshcorgileague.org/event/south-west-wcc-2/
LOCATION:Westpoint Exeter\, Clyst St Mary\, Exeter\, EX5 1DJ\, United Kingdom
CATEGORIES:Championship Dog Show
END:VEVENT
BEGIN:VEVENT
DTSTART;VALUE=DATE:20210803
DTEND;VALUE=DATE:20210804
DTSTAMP:20260422T005431
CREATED:20210208T204355Z
LAST-MODIFIED:20210217T214212Z
UID:523-1627948800-1628035199@www.welshcorgileague.org
SUMMARY:BATH
DESCRIPTION:JUDGE: MR T M JONES
URL:https://www.welshcorgileague.org/event/bath/
LOCATION:Three Shire Field\, Bath\, BA1 8EG\, United Kingdom
CATEGORIES:Championship Dog Show
END:VEVENT
BEGIN:VEVENT
DTSTART;VALUE=DATE:20210725
DTEND;VALUE=DATE:20210726
DTSTAMP:20260422T005431
CREATED:20210208T204355Z
LAST-MODIFIED:20210217T214226Z
UID:522-1627171200-1627257599@www.welshcorgileague.org
SUMMARY:LEEDS
DESCRIPTION:JUDGE: MR TH JOHNSON
URL:https://www.welshcorgileague.org/event/leeds/
LOCATION:Harewood House\, Leeds\, LS17 9LQ\, United Kingdom
CATEGORIES:Championship Dog Show
END:VEVENT
BEGIN:VEVENT
DTSTART;VALUE=DATE:20210718
DTEND;VALUE=DATE:20210719
DTSTAMP:20260422T005431
CREATED:20210208T204341Z
LAST-MODIFIED:20210410T191348Z
UID:521-1626566400-1626652799@www.welshcorgileague.org
SUMMARY:CRUFTSCANCELLED
DESCRIPTION:JUDGE: MR G KING \nThis show has been cancelled due to the ongoing Coronavirus pandemic.
URL:https://www.welshcorgileague.org/event/crufts/
LOCATION:National Exhibition Centre (NEC)\, Birmingham\, B40 1NT\, United Kingdom
CATEGORIES:Championship Dog Show
END:VEVENT
BEGIN:VEVENT
DTSTART;VALUE=DATE:20210717
DTEND;VALUE=DATE:20210718
DTSTAMP:20260422T005431
CREATED:20210208T204340Z
LAST-MODIFIED:20210217T212256Z
UID:520-1626480000-1626566399@www.welshcorgileague.org
SUMMARY:NATIONAL WORKING & PASTORAL BREEDS
DESCRIPTION:JUDGE: MR P CLIFTON
URL:https://www.welshcorgileague.org/event/national-working-pastoral-breeds/
LOCATION:Three Counties Showground\, Malvern\, WR13 6NW\, United Kingdom
CATEGORIES:Championship Dog Show
END:VEVENT
BEGIN:VEVENT
DTSTART;VALUE=DATE:20210711
DTEND;VALUE=DATE:20210712
DTSTAMP:20260422T005431
CREATED:20210208T204340Z
LAST-MODIFIED:20210217T212314Z
UID:519-1625961600-1626047999@www.welshcorgileague.org
SUMMARY:EAST OF ENGLAND
DESCRIPTION:JUDGE: MR G J GRAY
URL:https://www.welshcorgileague.org/event/east-of-england/
LOCATION:East of England Showground\, Peterborough\, PE2 6HE\, United Kingdom
CATEGORIES:Championship Dog Show
END:VEVENT
BEGIN:VEVENT
DTSTART;VALUE=DATE:20210704
DTEND;VALUE=DATE:20210705
DTSTAMP:20260422T005431
CREATED:20210208T204340Z
LAST-MODIFIED:20210410T191238Z
UID:518-1625356800-1625443199@www.welshcorgileague.org
SUMMARY:WINDSORCANCELLED
DESCRIPTION:JUDGE: MR G PARRISH \nThis show has been cancelled due to the ongoing Coronavirus pandemic.
URL:https://www.welshcorgileague.org/event/windsor/
LOCATION:Home Park\, Windsor\, SL4 6HX\, United Kingdom
CATEGORIES:Championship Dog Show
END:VEVENT
BEGIN:VEVENT
DTSTART;VALUE=DATE:20210627
DTEND;VALUE=DATE:20210628
DTSTAMP:20260422T005431
CREATED:20210208T204338Z
LAST-MODIFIED:20210410T230943Z
UID:515-1624752000-1624838399@www.welshcorgileague.org
SUMMARY:SOUTHERN COUNTIES
DESCRIPTION:JUDGE: DR. A.P. SEGERSVEN \nView the show schedule here
URL:https://www.welshcorgileague.org/event/southern-counties/
LOCATION:The Newbury Showground\, Newbury\, RG18 9QZ\, United Kingdom
CATEGORIES:Championship Dog Show
END:VEVENT
BEGIN:VEVENT
DTSTART;VALUE=DATE:20210611
DTEND;VALUE=DATE:20210612
DTSTAMP:20260422T005431
CREATED:20210208T204338Z
LAST-MODIFIED:20210410T191026Z
UID:516-1623369600-1623455999@www.welshcorgileague.org
SUMMARY:THREE COUNTIESCANCELLED
DESCRIPTION:JUDGE: MISS A JEFFERSON \nThis show has been cancelled due to the ongoing Coronavirus pandemic.
URL:https://www.welshcorgileague.org/event/three-counties/
LOCATION:Three Counties Showground\, Malvern\, WR13 6NW\, United Kingdom
CATEGORIES:Championship Dog Show
END:VEVENT
BEGIN:VEVENT
DTSTART;VALUE=DATE:20210423
DTEND;VALUE=DATE:20210424
DTSTAMP:20260422T005431
CREATED:20210208T204337Z
LAST-MODIFIED:20210217T211043Z
UID:513-1619136000-1619222399@www.welshcorgileague.org
SUMMARY:WELKSCANCELLED
DESCRIPTION:JUDGE: TBA \nThis show has been cancelled due to the ongoing Coronavirus pandemic.
URL:https://www.welshcorgileague.org/event/welks-2/
LOCATION:Three Counties Showground\, Malvern\, WR13 6NW\, United Kingdom
CATEGORIES:Championship Dog Show
END:VEVENT
BEGIN:VEVENT
DTSTART;VALUE=DATE:20210417
DTEND;VALUE=DATE:20210418
DTSTAMP:20260422T005431
CREATED:20210208T204337Z
LAST-MODIFIED:20210217T210926Z
UID:512-1618617600-1618703999@www.welshcorgileague.org
SUMMARY:WORKING & PASTORAL BREEDS ASSOC OF WALESCANCELLED
DESCRIPTION:JUDGE: MR J LUSCOTT \nThis show has been cancelled due to the ongoing Coronavirus pandemic.
URL:https://www.welshcorgileague.org/event/working-pastoral-breeds-assoc-of-wales-2/
LOCATION:Royal Welsh Showground\, Bluith Wells\, LD2 3SY\, United Kingdom
CATEGORIES:Championship Dog Show
END:VEVENT
END:VCALENDAR