BEGIN:VCALENDAR
VERSION:2.0
PRODID:-//Welsh Corgi League - ECPv6.15.20//NONSGML v1.0//EN
CALSCALE:GREGORIAN
METHOD:PUBLISH
X-WR-CALNAME:Welsh Corgi League
X-ORIGINAL-URL:https://www.welshcorgileague.org
X-WR-CALDESC:Events for Welsh Corgi League
REFRESH-INTERVAL;VALUE=DURATION:PT1H
X-Robots-Tag:noindex
X-PUBLISHED-TTL:PT1H
BEGIN:VTIMEZONE
TZID:Europe/London
BEGIN:DAYLIGHT
TZOFFSETFROM:+0000
TZOFFSETTO:+0100
TZNAME:BST
DTSTART:20200329T010000
END:DAYLIGHT
BEGIN:STANDARD
TZOFFSETFROM:+0100
TZOFFSETTO:+0000
TZNAME:GMT
DTSTART:20201025T010000
END:STANDARD
BEGIN:DAYLIGHT
TZOFFSETFROM:+0000
TZOFFSETTO:+0100
TZNAME:BST
DTSTART:20210328T010000
END:DAYLIGHT
BEGIN:STANDARD
TZOFFSETFROM:+0100
TZOFFSETTO:+0000
TZNAME:GMT
DTSTART:20211031T010000
END:STANDARD
BEGIN:DAYLIGHT
TZOFFSETFROM:+0000
TZOFFSETTO:+0100
TZNAME:BST
DTSTART:20220327T010000
END:DAYLIGHT
BEGIN:STANDARD
TZOFFSETFROM:+0100
TZOFFSETTO:+0000
TZNAME:GMT
DTSTART:20221030T010000
END:STANDARD
BEGIN:DAYLIGHT
TZOFFSETFROM:+0000
TZOFFSETTO:+0100
TZNAME:BST
DTSTART:20230326T010000
END:DAYLIGHT
BEGIN:STANDARD
TZOFFSETFROM:+0100
TZOFFSETTO:+0000
TZNAME:GMT
DTSTART:20231029T010000
END:STANDARD
END:VTIMEZONE
BEGIN:VEVENT
DTSTART;VALUE=DATE:20220508
DTEND;VALUE=DATE:20220509
DTSTAMP:20260421T212122
CREATED:20211101T102348Z
LAST-MODIFIED:20211101T102348Z
UID:1267-1651968000-1652054399@www.welshcorgileague.org
SUMMARY:BIRMINGHAM NATIONAL
DESCRIPTION:JUDGE: MR K DOVER
URL:https://www.welshcorgileague.org/event/birmingham-national-2/
CATEGORIES:Championship Dog Show
END:VEVENT
BEGIN:VEVENT
DTSTART;VALUE=DATE:20220501
DTEND;VALUE=DATE:20220502
DTSTAMP:20260421T212122
CREATED:20211101T102314Z
LAST-MODIFIED:20220110T095721Z
UID:1265-1651363200-1651449599@www.welshcorgileague.org
SUMMARY:MIDLAND & EASTERN COUNTIES WCC
DESCRIPTION:JUDGE: MRS DM KING
URL:https://www.welshcorgileague.org/event/midland-eastern-counties-wcc/
CATEGORIES:Championship Dog Show
END:VEVENT
BEGIN:VEVENT
DTSTART;VALUE=DATE:20220430
DTEND;VALUE=DATE:20220501
DTSTAMP:20260421T212122
CREATED:20211101T102230Z
LAST-MODIFIED:20220312T211122Z
UID:1263-1651276800-1651363199@www.welshcorgileague.org
SUMMARY:WCL
DESCRIPTION:JUDGE: MRS B DU PREE \nShow schedule and online entries: https://www.fossedata.co.uk/shows/The-Welsh-Corgi-League-April-2022.aspx
URL:https://www.welshcorgileague.org/event/wcl-2/
LOCATION:Stoneleigh Park\, Coventry\, CV8 2LZ\, United Kingdom
CATEGORIES:Championship Dog Show,Welsh Corgi League Event
END:VEVENT
BEGIN:VEVENT
DTSTART;VALUE=DATE:20220423
DTEND;VALUE=DATE:20220424
DTSTAMP:20260421T212122
CREATED:20211101T101956Z
LAST-MODIFIED:20220110T114932Z
UID:1261-1650672000-1650758399@www.welshcorgileague.org
SUMMARY:WELKS
DESCRIPTION:JUDGE: MR AA BARLOW \nShow Schedule and online entries: https://www.fossedata.co.uk/shows/West-of-England-Ladies-Kennel-Society-April-2022.aspx
URL:https://www.welshcorgileague.org/event/welks/
LOCATION:Three Counties Showground\, Malvern\, WR13 6NW\, United Kingdom
CATEGORIES:Championship Dog Show
END:VEVENT
BEGIN:VEVENT
DTSTART;VALUE=DATE:20220416
DTEND;VALUE=DATE:20220417
DTSTAMP:20260421T212122
CREATED:20211101T101907Z
LAST-MODIFIED:20211101T101907Z
UID:1259-1650067200-1650153599@www.welshcorgileague.org
SUMMARY:WORKING & PASTORAL BREEDS ASSOC OF WALES
DESCRIPTION:JUDGE: MS L FRANCHI
URL:https://www.welshcorgileague.org/event/working-pastoral-breeds-assoc-of-wales/
CATEGORIES:Championship Dog Show
END:VEVENT
BEGIN:VEVENT
DTSTART;VALUE=DATE:20220319
DTEND;VALUE=DATE:20220320
DTSTAMP:20260421T212122
CREATED:20211101T101611Z
LAST-MODIFIED:20220110T095620Z
UID:1257-1647648000-1647734399@www.welshcorgileague.org
SUMMARY:SO WALES CC
DESCRIPTION:JUDGES: DOGS: MRS CT MITCHELL\, BITCHES: MR G PARRISH
URL:https://www.welshcorgileague.org/event/so-wales-cc/
CATEGORIES:Championship Dog Show
END:VEVENT
BEGIN:VEVENT
DTSTART;VALUE=DATE:20220310
DTEND;VALUE=DATE:20220311
DTSTAMP:20260421T212122
CREATED:20211101T101248Z
LAST-MODIFIED:20211101T101248Z
UID:1255-1646870400-1646956799@www.welshcorgileague.org
SUMMARY:CRUFTS
DESCRIPTION:JUDGE: MRS A SUTELA
URL:https://www.welshcorgileague.org/event/crufts-2/
LOCATION:National Exhibition Centre (NEC)\, Birmingham\, B40 1NT\, United Kingdom
CATEGORIES:Championship Dog Show
END:VEVENT
BEGIN:VEVENT
DTSTART;VALUE=DATE:20220220
DTEND;VALUE=DATE:20220221
DTSTAMP:20260421T212122
CREATED:20211101T120649Z
LAST-MODIFIED:20211101T120649Z
UID:1338-1645315200-1645401599@www.welshcorgileague.org
SUMMARY:SOUTH WEST WCC OPEN SHOW
DESCRIPTION:JUDGE: MR N WILLIAMS
URL:https://www.welshcorgileague.org/event/south-west-wcc-open-show/
END:VEVENT
BEGIN:VEVENT
DTSTART;VALUE=DATE:20220213
DTEND;VALUE=DATE:20220214
DTSTAMP:20260421T212122
CREATED:20211101T115606Z
LAST-MODIFIED:20211101T115606Z
UID:1330-1644710400-1644796799@www.welshcorgileague.org
SUMMARY:PENNINE & YORKSHIRE WCA OPEN SHOW
DESCRIPTION:JUDGE: TBC
URL:https://www.welshcorgileague.org/event/pennine-yorkshire-wca-open-show/
END:VEVENT
BEGIN:VEVENT
DTSTART;VALUE=DATE:20220213
DTEND;VALUE=DATE:20220214
DTSTAMP:20260421T212122
CREATED:20211101T112928Z
LAST-MODIFIED:20211101T120611Z
UID:1325-1644710400-1644796799@www.welshcorgileague.org
SUMMARY:NORTHERN SECTION OPEN SHOW
DESCRIPTION:JUDGE: TBC
URL:https://www.welshcorgileague.org/event/northen-section-open-show/
CATEGORIES:Welsh Corgi League Event
END:VEVENT
BEGIN:VEVENT
DTSTART;VALUE=DATE:20220123
DTEND;VALUE=DATE:20220124
DTSTAMP:20260421T212122
CREATED:20211101T100042Z
LAST-MODIFIED:20211101T100324Z
UID:1251-1642896000-1642982399@www.welshcorgileague.org
SUMMARY:MANCHESTER
DESCRIPTION:JUDGE: MISS FM MILLER \nView the show schedule here
URL:https://www.welshcorgileague.org/event/manchester/
LOCATION:Staffordshire County Showground\, Stafford\, ST18 0BD\, United Kingdom
CATEGORIES:Championship Dog Show
END:VEVENT
BEGIN:VEVENT
DTSTART;TZID=Europe/London:20211219T140000
DTEND;TZID=Europe/London:20211219T160000
DTSTAMP:20260421T212122
CREATED:20211130T124329Z
LAST-MODIFIED:20211130T124340Z
UID:1380-1639922400-1639929600@www.welshcorgileague.org
SUMMARY:SOUTHERN SECTION CORGI CHRISTMAS GET-TOGETHER
DESCRIPTION:Bring your own picnic and chairs for an afternoon of fun with a wide selection of Corgi games in a large ventilated outdoor barn.
URL:https://www.welshcorgileague.org/event/southern-section-corgi-christmas-get-together/
LOCATION:Ryslip Kennels
CATEGORIES:Welsh Corgi League Event
END:VEVENT
BEGIN:VEVENT
DTSTART;VALUE=DATE:20211212
DTEND;VALUE=DATE:20211213
DTSTAMP:20260421T212122
CREATED:20210208T204722Z
LAST-MODIFIED:20211101T114752Z
UID:543-1639267200-1639353599@www.welshcorgileague.org
SUMMARY:LKA
DESCRIPTION:JUDGE: MISS NL BLANCE \nView the show schedule here
URL:https://www.welshcorgileague.org/event/lka/
LOCATION:National Exhibition Centre (NEC)\, Birmingham\, B40 1NT\, United Kingdom
CATEGORIES:Championship Dog Show
END:VEVENT
BEGIN:VEVENT
DTSTART;VALUE=DATE:20211205
DTEND;VALUE=DATE:20211206
DTSTAMP:20260421T212122
CREATED:20210410T200342Z
LAST-MODIFIED:20211101T093351Z
UID:1017-1638662400-1638748799@www.welshcorgileague.org
SUMMARY:SOUTHERN SECTION CHRISTMAS PARTY - CANCELLED
DESCRIPTION:
URL:https://www.welshcorgileague.org/event/southern-section-christmas-party/
CATEGORIES:Welsh Corgi League Event
END:VEVENT
BEGIN:VEVENT
DTSTART;VALUE=DATE:20211128
DTEND;VALUE=DATE:20211129
DTSTAMP:20260421T212122
CREATED:20210208T204722Z
LAST-MODIFIED:20211101T120404Z
UID:542-1638057600-1638143999@www.welshcorgileague.org
SUMMARY:WELSH CORGI CLUB OF CAMBRIA
DESCRIPTION:JUDGE: MR SJ PARSONS \nView the show schedule here
URL:https://www.welshcorgileague.org/event/welsh-corgi-club-of-cambria/
LOCATION:Perdiswell Leisure Centre\, Bilford Road\, Worcester\, WR3 8DX
CATEGORIES:Championship Dog Show
END:VEVENT
BEGIN:VEVENT
DTSTART;VALUE=DATE:20211120
DTEND;VALUE=DATE:20211121
DTSTAMP:20260421T212122
CREATED:20210208T204715Z
LAST-MODIFIED:20211101T120239Z
UID:541-1637366400-1637452799@www.welshcorgileague.org
SUMMARY:WCC
DESCRIPTION:JUDGES: DOGS: MR G CORISH - BITCHES: MR DA REES \nView the show schedule here
URL:https://www.welshcorgileague.org/event/wcc/
LOCATION:Monmouth School Sports Club\, HADNOCK ROAD\, MONMOUTH\, NP25 3NG
CATEGORIES:Championship Dog Show
END:VEVENT
BEGIN:VEVENT
DTSTART;VALUE=DATE:20211113
DTEND;VALUE=DATE:20211114
DTSTAMP:20260421T212122
CREATED:20210208T204714Z
LAST-MODIFIED:20211101T121123Z
UID:539-1636761600-1636847999@www.welshcorgileague.org
SUMMARY:MIDLAND WCC
DESCRIPTION:JUDGE: MRS M HOGGARTH \nView the show schedule here
URL:https://www.welshcorgileague.org/event/midland-wcc/
LOCATION:Perdiswell Leisure Centre\, Bilford Road\, Worcester\, WR3 8DX
CATEGORIES:Championship Dog Show
END:VEVENT
BEGIN:VEVENT
DTSTART;VALUE=DATE:20211107
DTEND;VALUE=DATE:20211108
DTSTAMP:20260421T212122
CREATED:20210209T162043Z
LAST-MODIFIED:20211101T113653Z
UID:624-1636243200-1636329599@www.welshcorgileague.org
SUMMARY:WCL CHAMPIONSHIP SHOW
DESCRIPTION:JUDGE: MISS L ROBERTS (CHERASTAYNE)\n \nThis show will now be held on Sunday 7th November 2021 at The Royal Court Hotel\, Tamworth Road\, Coventry\, CV7 8JG. \nIf you wish to book accommodation please fill in this form: Room Booking Form \nFor more information\, please contact Executive Secretary: Mrs M Hoggarth 0191 529 4118 email: wclexsec10@aol.com \nView the show schedule here
URL:https://www.welshcorgileague.org/event/wcl-championship-show/
LOCATION:The Royal Court Hotel\, Tamworth Road\, Coventry\, CV7 8JG\, United Kingdom
CATEGORIES:Championship Dog Show,Welsh Corgi League Event
END:VEVENT
BEGIN:VEVENT
DTSTART;VALUE=DATE:20211106
DTEND;VALUE=DATE:20211107
DTSTAMP:20260421T212122
CREATED:20210208T204714Z
LAST-MODIFIED:20211101T112435Z
UID:538-1636156800-1636243199@www.welshcorgileague.org
SUMMARY:WORKING & PASTORAL BREEDS ASSOC OF SCOTLAND
DESCRIPTION:JUDGE: MR T NAGRECHA \nView the show schedule here
URL:https://www.welshcorgileague.org/event/working-pastoral-breeds-assoc-of-scotland/
LOCATION:Royal Highland Showground\, Ingliston\, Edinburgh\, EH28 8NB\, United Kingdom
CATEGORIES:Championship Dog Show
END:VEVENT
BEGIN:VEVENT
DTSTART;TZID=Europe/London:20211031T120000
DTEND;TZID=Europe/London:20211031T120000
DTSTAMP:20260421T212122
CREATED:20211008T090327Z
LAST-MODIFIED:20211008T092358Z
UID:1219-1635681600-1635681600@www.welshcorgileague.org
SUMMARY:WCL SCOTTISH SECTION - HALLOWEEN EVENT
DESCRIPTION:Come along and join the Welsh Corgi League Scottish Section at our Halloween Event.\nPlease register your interest with our secretary Kay Hogg - SEND EMAIL
URL:https://www.welshcorgileague.org/event/wcl-scottish-section-halloween-event/
LOCATION:Thornhill Community Centre\, Thornhill Road\, Falkirk\, FK2 7AE\, United Kingdom
CATEGORIES:Welsh Corgi League Event
END:VEVENT
BEGIN:VEVENT
DTSTART;VALUE=DATE:20211028
DTEND;VALUE=DATE:20211029
DTSTAMP:20260421T212122
CREATED:20210208T204714Z
LAST-MODIFIED:20210810T163453Z
UID:537-1635379200-1635465599@www.welshcorgileague.org
SUMMARY:MIDLAND COUNTIESCANCELLED
DESCRIPTION:JUDGE: MR A WIGHT \nThis show has been cancelled due to the ongoing Coronavirus pandemic.
URL:https://www.welshcorgileague.org/event/midland-counties/
LOCATION:Staffordshire County Showground\, Stafford\, ST18 0BD\, United Kingdom
CATEGORIES:Championship Dog Show
END:VEVENT
BEGIN:VEVENT
DTSTART;VALUE=DATE:20211023
DTEND;VALUE=DATE:20211024
DTSTAMP:20260421T212122
CREATED:20210208T204554Z
LAST-MODIFIED:20210217T221022Z
UID:536-1634947200-1635033599@www.welshcorgileague.org
SUMMARY:BELFAST
DESCRIPTION:JUDGE: MR KA NATHAN
URL:https://www.welshcorgileague.org/event/belfast/
LOCATION:Eikon Exhibition Centre\, Lisburn\, BT27 5RF\, United Kingdom
CATEGORIES:Championship Dog Show
END:VEVENT
BEGIN:VEVENT
DTSTART;VALUE=DATE:20211016
DTEND;VALUE=DATE:20211017
DTSTAMP:20260421T212122
CREATED:20210208T204554Z
LAST-MODIFIED:20210506T142043Z
UID:535-1634342400-1634428799@www.welshcorgileague.org
SUMMARY:PENNINE & YORKSHIRE WCA
DESCRIPTION:RESCHEDULED SHOW FROM 2020 - JUDGE: MR S ATKINSON \n2021 SHOW - JUDGE: MR D SMITH
URL:https://www.welshcorgileague.org/event/pennine-yorkshire-wca/
CATEGORIES:Championship Dog Show
END:VEVENT
BEGIN:VEVENT
DTSTART;VALUE=DATE:20211010
DTEND;VALUE=DATE:20211011
DTSTAMP:20260421T212122
CREATED:20210208T204554Z
LAST-MODIFIED:20210410T225002Z
UID:534-1633824000-1633910399@www.welshcorgileague.org
SUMMARY:SOUTH WEST WCC
DESCRIPTION:JUDGE: MRS S COULSON
URL:https://www.welshcorgileague.org/event/south-west-wcc/
CATEGORIES:Championship Dog Show
END:VEVENT
BEGIN:VEVENT
DTSTART;VALUE=DATE:20211008
DTEND;VALUE=DATE:20211009
DTSTAMP:20260421T212122
CREATED:20210208T204554Z
LAST-MODIFIED:20210601T215642Z
UID:533-1633651200-1633737599@www.welshcorgileague.org
SUMMARY:SO WALES KENNEL ASSOCCANCELLED
DESCRIPTION:JUDGE: MRS V WATSON \nThis show has been cancelled due to the ongoing Coronavirus pandemic.
URL:https://www.welshcorgileague.org/event/so-wales-kennel-assoc/
LOCATION:Royal Welsh Showground\, Bluith Wells\, LD2 3SY\, United Kingdom
CATEGORIES:Championship Dog Show
END:VEVENT
BEGIN:VEVENT
DTSTART;VALUE=DATE:20211007
DTEND;VALUE=DATE:20211008
DTSTAMP:20260421T212122
CREATED:20210410T224602Z
LAST-MODIFIED:20210810T163035Z
UID:1022-1633564800-1633651199@www.welshcorgileague.org
SUMMARY:WORKING & PASTORAL BREEDS OF WALESCANCELLED
DESCRIPTION:Judge: MR J LUSCOTT \nThis show has been cancelled due to the ongoing Coronavirus pandemic.
URL:https://www.welshcorgileague.org/event/working-pastoral-breeds-of-wales/
LOCATION:Royal Welsh Showground\, Bluith Wells\, LD2 3SY\, United Kingdom
CATEGORIES:Championship Dog Show
END:VEVENT
BEGIN:VEVENT
DTSTART;VALUE=DATE:20211005
DTEND;VALUE=DATE:20211006
DTSTAMP:20260421T212122
CREATED:20210208T204340Z
LAST-MODIFIED:20210412T223548Z
UID:517-1633392000-1633478399@www.welshcorgileague.org
SUMMARY:BORDER UNION
DESCRIPTION:JUDGE: MRS S HEWART-CHAMBERS
URL:https://www.welshcorgileague.org/event/border-union/
LOCATION:Borders Event Centre\, Springwood Park\, Kelso\, TD5 8LS\, United Kingdom
CATEGORIES:Championship Dog Show
END:VEVENT
BEGIN:VEVENT
DTSTART;VALUE=DATE:20211002
DTEND;VALUE=DATE:20211003
DTSTAMP:20260421T212122
CREATED:20210208T204553Z
LAST-MODIFIED:20210412T223758Z
UID:532-1633132800-1633219199@www.welshcorgileague.org
SUMMARY:SKC
DESCRIPTION:JUDGE: MISS GD LEGERTON
URL:https://www.welshcorgileague.org/event/skc-3/
LOCATION:Royal Highland Centre\, Edinburgh\, EH28 8NB\, United Kingdom
CATEGORIES:Championship Dog Show
END:VEVENT
BEGIN:VEVENT
DTSTART;VALUE=DATE:20211002
DTEND;VALUE=DATE:20211003
DTSTAMP:20260421T212122
CREATED:20210208T204338Z
LAST-MODIFIED:20210412T223833Z
UID:514-1633132800-1633219199@www.welshcorgileague.org
SUMMARY:SKC (Rescheduled from May)
DESCRIPTION:JUDGE: MRS EA MACDONALD
URL:https://www.welshcorgileague.org/event/skc-2/
LOCATION:Royal Highland Centre\, Edinburgh\, EH28 8NB\, United Kingdom
CATEGORIES:Championship Dog Show
END:VEVENT
BEGIN:VEVENT
DTSTART;VALUE=DATE:20210925
DTEND;VALUE=DATE:20210926
DTSTAMP:20260421T212122
CREATED:20210208T204411Z
LAST-MODIFIED:20210217T221700Z
UID:531-1632528000-1632614399@www.welshcorgileague.org
SUMMARY:WCC OF ULSTER
DESCRIPTION:JUDGE: MRS A INDERGAARD (NORWAY)
URL:https://www.welshcorgileague.org/event/wcc-of-ulster/
CATEGORIES:Championship Dog Show
END:VEVENT
END:VCALENDAR